BEGIN:VCALENDAR
VERSION:2.0
PRODID:-//ChamberMaster//Event Calendar 2.0//EN
METHOD:PUBLISH
X-PUBLISHED-TTL:P3D
REFRESH-INTERVAL:P3D
CALSCALE:GREGORIAN
BEGIN:VEVENT
DTSTART:20170906T130000Z
DTEND:20170906T230000Z
X-MICROSOFT-CDO-ALLDAYEVENT:FALSE
SUMMARY:Moms & Mimosas
DESCRIPTION:presented by\n\n\n\nCoco & Duckie\n\nSouthern Trends\n\nAmy's Unique Boutique\n\nAlternatives\n\nSpirit T's\n\nMichele's Jewelry\n\nTreasure Craft\n\nBuck Fergeson Originals
X-ALT-DESC;FMTTYPE=text/html:<em><strong>presented by</strong></em><br />\n<br />\nCoco &amp\; Duckie<br />\nSouthern Trends<br />\nAmy&#39\;s Unique Boutique<br />\nAlternatives<br />\nSpirit T&#39\;s<br />\nMichele&#39\;s Jewelry<br />\nTreasure Craft<br />\nBuck Fergeson Originals<br />\n&nbsp\;
LOCATION:Shops in Downtown Bellville
UID:e.2500.3588
SEQUENCE:3
DTSTAMP:20260423T141634Z
URL:https://business.bellville.com/events/details/moms-mimosas-3588
END:VEVENT

END:VCALENDAR
