BEGIN:VCALENDAR
VERSION:2.0
PRODID:-//ChamberMaster//Event Calendar 2.0//EN
METHOD:PUBLISH
X-PUBLISHED-TTL:P3D
REFRESH-INTERVAL:P3D
CALSCALE:GREGORIAN
BEGIN:VEVENT
DTSTART:20180929T140000Z
DTEND:20180929T220000Z
X-MICROSOFT-CDO-ALLDAYEVENT:FALSE
SUMMARY:Modern Burlap Market
DESCRIPTION:Modern Burlap Market is hosted by Bellville based lifestyle brand Modern Burlap founded by Samantha Lischka. It will include carefully curated vendors from across the state\, food trucks\, daytime activities for families to enjoy\, live music and more. Free to the public. Come join us!
X-ALT-DESC;FMTTYPE=text/html:<span style="color: rgb(84\, 84\, 84)\; font-family: arial\,sans-serif\; font-size: small\;">Modern Burlap Market is hosted by Bellville based lifestyle brand Modern Burlap founded by Samantha Lischka. It will include carefully curated vendors from across the state\, food trucks\, daytime activities for families to enjoy\, live music and more. Free to the public. Come join us!</span>
LOCATION:Austin County Expo Center 1076 E Hill Bellville\, TX 77418
UID:e.2500.6909
SEQUENCE:3
DTSTAMP:20260422T185611Z
URL:https://business.bellville.com/events/details/modern-burlap-market-6909
END:VEVENT

END:VCALENDAR
