BEGIN:VCALENDAR
VERSION:2.0
PRODID:-//ChamberMaster//Event Calendar 2.0//EN
METHOD:PUBLISH
X-PUBLISHED-TTL:P3D
REFRESH-INTERVAL:P3D
CALSCALE:GREGORIAN
BEGIN:VEVENT
DTSTART:20180617T160000Z
DTEND:20180617T220000Z
X-MICROSOFT-CDO-ALLDAYEVENT:FALSE
SUMMARY:Millheim Harmonie Verein's Annual Father's Day Barbecue
DESCRIPTION:Attendance: 1100+\n\nOpen Pit BBQ\, Brass Band\, Bean Bag Tournament\, Cake Walk\, Dance\, Auction
X-ALT-DESC;FMTTYPE=text/html:Attendance: 1100+<br />\nOpen Pit BBQ\, Brass Band\, Bean Bag Tournament\, Cake Walk\, Dance\, Auction
LOCATION:Millheim Harmonie Verein Hall 3384 FM 949 Road Sealy Texas 77474
UID:e.2500.532
SEQUENCE:3
DTSTAMP:20260423T000643Z
URL:https://business.bellville.com/events/details/millheim-harmonie-verein-s-annual-father-s-day-barbecue-06-19-2016-532
END:VEVENT

END:VCALENDAR
