BEGIN:VCALENDAR
VERSION:2.0
PRODID:-//ChamberMaster//Event Calendar 2.0//EN
METHOD:PUBLISH
X-PUBLISHED-TTL:P3D
REFRESH-INTERVAL:P3D
CALSCALE:GREGORIAN
BEGIN:VEVENT
DTSTART:20170627T230000Z
DTEND:20170628T000000Z
X-MICROSOFT-CDO-ALLDAYEVENT:FALSE
SUMMARY:Mill Creek Watershed Partnership Public Stakeholder Meeting
DESCRIPTION:
X-ALT-DESC;FMTTYPE=text/html:
LOCATION:Bleiblerville Volunteer Fire Department 3912 FM 2502 Rd. Bleiblerville\, TX 78931
UID:e.2500.3561
SEQUENCE:3
DTSTAMP:20260423T192855Z
URL:https://business.bellville.com/events/details/mill-creek-watershed-partnership-public-stakeholder-meeting-3561
END:VEVENT

END:VCALENDAR
