BEGIN:VCALENDAR
VERSION:2.0
PRODID:-//ChamberMaster//Event Calendar 2.0//EN
METHOD:PUBLISH
X-PUBLISHED-TTL:P3D
REFRESH-INTERVAL:P3D
CALSCALE:GREGORIAN
BEGIN:VEVENT
DTSTART:20170912T230000Z
DTEND:20170913T003000Z
X-MICROSOFT-CDO-ALLDAYEVENT:FALSE
SUMMARY:Mill Creek Watershed Partnership Meeting
DESCRIPTION:Tuesday\, September 12th  6-7:30pm  \n\n\n\nBleiblerville Fire Hall\n\n3912 FM 2502 Rd\, Bellville\, TX 77418\n\n \n\n Come hear about the latest updates and on-goings related to implementation of the Mill Creek Watershed Protection Plan.  Current agenda topics include: HGAC water quality testing update\, Mill Creek Steam Team development\, online discussion forum options\, and upcoming events.  \n\n\n\n**The primary agenda topic is still open.  If you have so\n\nTuesday\, September 12th  6-7:30pm  \n\n\n\nBleiblerville Fire Hall\n\n3912 FM 2502 Rd\, Bellville\, TX 77418\n\n \n\n Come hear about the latest updates and on-goings related to implementation of the Mill Creek Watershed Protection Plan.  Current agenda topics include: HGAC water quality testing update\, Mill Creek Steam Team development\, online discussion forum options\, and upcoming events.  \n\n\n\n**The primary agenda topic is still open.  If you have something you wish to share/discuss or a topic you would like to know more about\, please contact the Watershed Coordinator\, Jennifer Cary (979-862-8070\, jcary@tamu.edu).\n\nmething you wish to share/discuss or a topic you would like to know more about\, please contact the Watershed Coordinator\, Jennifer Cary (979-862-8070\, jcary@tamu.edu).
X-ALT-DESC;FMTTYPE=text/html:<p align="center" style="margin: 0in 0in 7.5pt\; text-align: center\;"><b><span style="color: white\; font-family: &quot\;Georgia&quot\;\,serif\; font-size: 12pt\;">Tuesday\, September 12th &nbsp\;6-7:30pm &nbsp\;<br />\n<br />\nBleiblerville Fire Hall<br />\n3912 FM 2502 Rd\, Bellville\, TX 77418</span></b></p>\n\n<p align="center" style="margin: 0in 0in 7.5pt\; text-align: center\;"><b><span style="color: white\; font-family: &quot\;Georgia&quot\;\,serif\; font-size: 12pt\;">&nbsp\;</span></b></p>\n\n<p align="center" style="margin: 0in 0in 7.5pt\; text-align: center\;"><b><span style="color: white\; font-family: &quot\;Georgia&quot\;\,serif\; font-size: 12pt\;">&nbsp\;Come hear about the latest updates and on-goings related to implementation of the Mill Creek Watershed Protection Plan. &nbsp\;Current agenda topics include: HGAC water quality testing update\, Mill Creek Steam Team development\, online discussion forum options\, and upcoming events. &nbsp\;<br />\n<br />\n**The primary agenda topic is still open. &nbsp\;If you have so</span></b></p>\n\n<p align="center" style="margin: 0in 0in 7.5pt\; text-align: center\;"><b><span style="color: white\; font-family: &quot\;Georgia&quot\;\,serif\; font-size: 12pt\;">Tuesday\, September 12th &nbsp\;6-7:30pm &nbsp\;<br />\n<br />\nBleiblerville Fire Hall<br />\n3912 FM 2502 Rd\, Bellville\, TX 77418</span></b></p>\n\n<p align="center" style="margin: 0in 0in 7.5pt\; text-align: center\;"><b><span style="color: white\; font-family: &quot\;Georgia&quot\;\,serif\; font-size: 12pt\;">&nbsp\;</span></b></p>\n\n<p align="center" style="margin: 0in 0in 7.5pt\; text-align: center\;"><b><span style="color: white\; font-family: &quot\;Georgia&quot\;\,serif\; font-size: 12pt\;">&nbsp\;Come hear about the latest updates and on-goings related to implementation of the Mill Creek Watershed Protection Plan. &nbsp\;Current agenda topics include: HGAC water quality testing update\, Mill Creek Steam Team development\, online discussion forum options\, and upcoming events. &nbsp\;<br />\n<br />\n**The primary agenda topic is still open. &nbsp\;If you have something you wish to share/discuss or a topic you would like to know more about\, please contact the Watershed Coordinator\, Jennifer Cary (979-862-8070\, <a shape="rect" target="_blank"><font color="#ffffff">jcary@tamu.edu</font></a>).</span></b></p>\n\n<p align="center" style="margin: 0in 0in 7.5pt\; text-align: center\;"><b><span style="color: white\; font-family: &quot\;Georgia&quot\;\,serif\; font-size: 12pt\;">mething you wish to share/discuss or a topic you would like to know more about\, please contact the Watershed Coordinator\, Jennifer Cary (979-862-8070\, <a shape="rect" target="_blank"><font color="#ffffff">jcary@tamu.edu</font></a>).</span></b></p>\n
LOCATION:Bleiblerville Fire Hall 3912 FM 2502 Rd. Bellville\, TX 77418
UID:e.2500.3593
SEQUENCE:3
DTSTAMP:20260423T142526Z
URL:https://business.bellville.com/events/details/mill-creek-watershed-partnership-meeting-3593
END:VEVENT

END:VCALENDAR
