BEGIN:VCALENDAR
VERSION:2.0
PRODID:-//ChamberMaster//Event Calendar 2.0//EN
METHOD:PUBLISH
X-PUBLISHED-TTL:P3D
REFRESH-INTERVAL:P3D
CALSCALE:GREGORIAN
BEGIN:VEVENT
DTSTART:20160401T230000Z
DTEND:20160402T040000Z
X-MICROSOFT-CDO-ALLDAYEVENT:FALSE
SUMMARY:Micky and The Motorcars live at Buffalo Creek
DESCRIPTION:Micky and The Motorcars with special guest Aaron Einhouse at Buffalo Creek Wedding and Entertainment Venue Friday\, April 1\, 2016.  Tickets available on line at ticketleap $12 advance and $15 at the door.\n\nGooroo's Wood Fire Pizza will be here with their cooked to order wood fired pizzas.  \n\nMicky and the Motorcars\, with their own band of Americana rock\, bring an optimism and integrity a band only acquires when its been performing so long the only thing left to tell is the truth. \n\nEight years and five albums after MMC was founded in Challis\, Idaho\, the band still writes more than 90 percent of its music as it defines the lives of brothers Micky Braun (vocals\, acoustic guitar) Gary Braun (vocals\, guitars\, mandolin\, harmonica) childhood friend Mark McCoy (bass)\, Kris Farrow (guitars\, saxophone) and Shane Vannerson (drums\, percussion). \n\nMicky and the Motorcars may be self-described as "a little rough around the edges\," but with its rocking sound\, MMC shares real thoughts\, is full of depth\, and has a honest\, raw emotion and energy bleeding through Micky's heart straight out into the crowd.
X-ALT-DESC;FMTTYPE=text/html:<p><strong><a href="http://www.mickyandthemotorcars.com/" rel="nofollow" style="margin: 0px\; padding: 0px\; color: rgb(48\, 129\, 188)\; text-decoration: none\; cursor: pointer\; box-sizing: border-box\;" target="_blank">Micky and The Motorcars</a>&nbsp\;</strong>with special guest<strong>&nbsp\;<a href="http://www.aaroneinhouse.com/" rel="nofollow" style="margin: 0px\; padding: 0px\; color: rgb(48\, 129\, 188)\; text-decoration: none\; cursor: pointer\; box-sizing: border-box\;" target="_blank">Aaron Einhouse</a>&nbsp\;</strong>at&nbsp\;<a href="http://www.buffalocreekevents.com/" rel="nofollow" style="margin: 0px\; padding: 0px\; color: rgb(48\, 129\, 188)\; text-decoration: none\; cursor: pointer\; box-sizing: border-box\;" target="_blank">Buffalo Creek Wedding and Entertainment Venue</a>&nbsp\;Friday\, April 1\, 2016. &nbsp\;<a href="http://buffalocreekbellville.ticketleap.com/micky--the-motorcars/">Tickets available on line at ticketleap</a> $12 advance and $15 at the door.</p>\n\n<p><a href="https://www.facebook.com/Gooroos-Wood-Fire-Pizza-105705609768281/?fref=ts" rel="nofollow" style="margin: 0px\; padding: 0px\; color: rgb(48\, 129\, 188)\; text-decoration: none\; cursor: pointer\; box-sizing: border-box\;" target="_blank">Gooroo&#39\;s Wood Fire Pizza</a>&nbsp\;will be here with their cooked to order wood fired pizzas. &nbsp\;</p>\n\n<p>Micky and the Motorcars\, with their own band of Americana rock\, bring an optimism and integrity a band only acquires when its been performing so long the only thing left to tell is the truth.&nbsp\;<br />\nEight years and five albums after MMC was founded in&nbsp\;Challis\, Idaho\, the band still writes more than 90 percent of its music as it defines the lives of brothers Micky Braun (vocals\, acoustic guitar) Gary Braun (vocals\, guitars\, mandolin\, harmonica) childhood friend Mark McCoy (bass)\, Kris Farrow (guitars\, saxophone) and Shane Vannerson (drums\, percussion).&nbsp\;<br />\nMicky and the Motorcars may be self-described as &ldquo\;a little rough around the edges\,&rdquo\; but with its rocking sound\, MMC shares real thoughts\, is full of depth\, and has a honest\, raw emotion and energy bleeding through Micky&rsquo\;s heart straight out into the crowd.</p>\n
LOCATION:10827 Hwy 36 S. Bellville\, TX Between Bellville and Sealy
UID:e.2500.1479
SEQUENCE:3
DTSTAMP:20260424T192648Z
URL:https://business.bellville.com/events/details/micky-and-the-motorcars-live-at-buffalo-creek-04-01-2016-1479
END:VEVENT

END:VCALENDAR
