BEGIN:VCALENDAR
VERSION:2.0
PRODID:-//ChamberMaster//Event Calendar 2.0//EN
METHOD:PUBLISH
X-PUBLISHED-TTL:P3D
REFRESH-INTERVAL:P3D
CALSCALE:GREGORIAN
BEGIN:VEVENT
DTSTART:20171111T223000Z
DTEND:20171112T023000Z
X-MICROSOFT-CDO-ALLDAYEVENT:FALSE
SUMMARY:Methodist Men Fajita Supper & Auction
DESCRIPTION:Proceeds go to scholarships\, missions and service projects
X-ALT-DESC;FMTTYPE=text/html:Proceeds go to scholarships\, missions and service projects
LOCATION:Bellville United Methodist Church 234 S. Masonic Bellville\, TX 77418
UID:e.2500.3674
SEQUENCE:3
DTSTAMP:20260423T114110Z
URL:https://business.bellville.com/events/details/methodist-men-fajita-supper-auction-3674
END:VEVENT

END:VCALENDAR
