BEGIN:VCALENDAR
VERSION:2.0
PRODID:-//ChamberMaster//Event Calendar 2.0//EN
METHOD:PUBLISH
X-PUBLISHED-TTL:P3D
REFRESH-INTERVAL:P3D
CALSCALE:GREGORIAN
BEGIN:VEVENT
DTSTART:20170331T230000Z
DTEND:20170401T020000Z
X-MICROSOFT-CDO-ALLDAYEVENT:FALSE
SUMMARY:Men's Conference at All Around Cowboy Church
DESCRIPTION:
X-ALT-DESC;FMTTYPE=text/html:
LOCATION:
UID:e.2500.3370
SEQUENCE:3
DTSTAMP:20260424T002309Z
URL:https://business.bellville.com/events/details/men-s-conference-at-all-around-cowboy-church-3370
END:VEVENT

END:VCALENDAR
