BEGIN:VCALENDAR
VERSION:2.0
PRODID:-//ChamberMaster//Event Calendar 2.0//EN
METHOD:PUBLISH
X-PUBLISHED-TTL:P3D
REFRESH-INTERVAL:P3D
CALSCALE:GREGORIAN
BEGIN:VEVENT
DTSTART:20160221T000000Z
DTEND:20160221T050000Z
X-MICROSOFT-CDO-ALLDAYEVENT:FALSE
SUMMARY:Max Stalling at Buffalo Creek
DESCRIPTION:Max Stalling will once again join us at Buffalo Creek\, Saturday\, February 20\, 2016. This will be Max's fourth time at Buffalo Creek. He always puts on an amazing show with a packed house\, so get your tickets early.
X-ALT-DESC;FMTTYPE=text/html:Max Stalling will once again join us at Buffalo Creek\, Saturday\, February 20\, 2016. This will be Max&#39\;s fourth time at Buffalo Creek. He always puts on an amazing show with a packed house\, so get your tickets early.
LOCATION:10827 Hwy 36 S. between Bellville and Sealy
UID:e.2500.558
SEQUENCE:3
DTSTAMP:20260424T204240Z
URL:https://business.bellville.com/events/details/max-stalling-at-buffalo-creek-02-20-2016-558
END:VEVENT

END:VCALENDAR
