BEGIN:VCALENDAR
VERSION:2.0
PRODID:-//ChamberMaster//Event Calendar 2.0//EN
METHOD:PUBLISH
X-PUBLISHED-TTL:P3D
REFRESH-INTERVAL:P3D
CALSCALE:GREGORIAN
BEGIN:VEVENT
DTSTART:20170614T223000Z
DTEND:20170615T010000Z
X-MICROSOFT-CDO-ALLDAYEVENT:FALSE
SUMMARY:Mark in the Park
DESCRIPTION:Stephen F. Austin State Park is inviting the community to the park on June 14 at 5:30PM. Come with the family\, club\, your company team or solo. We'll have about 50 picnic tables to be assembled. Steel frames with wood seats and tops. We figure a team of 2+ can knock out a few tables and be on their way. We'll have a wood burner on hand if you want to leave your "mark" on the park. Bring your socket set or crescent wrench. RSVP the park office or myself. Hot dogs\, water and wood burners provided.
X-ALT-DESC;FMTTYPE=text/html:Stephen F. Austin State Park is inviting the community to the park on June 14 at 5:30PM. Come with the family\, club\, your company team or solo. We&#39\;ll have about 50 picnic tables to be assembled. Steel frames with wood seats and tops. We figure a team of 2+ can knock out a few tables and be on their way. We&#39\;ll have a wood burner on hand if you want to leave your &quot\;mark&quot\; on the park. Bring your socket set or crescent wrench. RSVP the park office or myself. Hot dogs\, water and wood burners provided.
LOCATION:Park Rd 38 San Felipe\, TX 77433
UID:e.2500.3557
SEQUENCE:3
DTSTAMP:20260423T192644Z
URL:https://business.bellville.com/events/details/mark-in-the-park-3557
END:VEVENT

END:VCALENDAR
