BEGIN:VCALENDAR
VERSION:2.0
PRODID:-//ChamberMaster//Event Calendar 2.0//EN
METHOD:PUBLISH
X-PUBLISHED-TTL:P3D
REFRESH-INTERVAL:P3D
CALSCALE:GREGORIAN
BEGIN:VEVENT
DTSTART:20181009T140000Z
DTEND:20181009T160000Z
X-MICROSOFT-CDO-ALLDAYEVENT:FALSE
SUMMARY:Lonestar Prestress Manufacturing Ribbon Cutting
DESCRIPTION:Refreshments will be served.
X-ALT-DESC;FMTTYPE=text/html:Refreshments will be served.
LOCATION:8892 Hwy 159 E Bellville TX 77418
UID:e.2500.6962
SEQUENCE:3
DTSTAMP:20260422T172137Z
URL:https://business.bellville.com/events/details/lonestar-prestress-manufacturing-ribbon-cutting-6962
END:VEVENT

END:VCALENDAR
