BEGIN:VCALENDAR
VERSION:2.0
PRODID:-//ChamberMaster//Event Calendar 2.0//EN
METHOD:PUBLISH
X-PUBLISHED-TTL:P3D
REFRESH-INTERVAL:P3D
CALSCALE:GREGORIAN
BEGIN:VEVENT
DTSTART:20171210T230000Z
DTEND:20171211T010000Z
X-MICROSOFT-CDO-ALLDAYEVENT:FALSE
SUMMARY:Living Nativity
DESCRIPTION:Drive Thru Live Nativity
X-ALT-DESC;FMTTYPE=text/html:Drive Thru Live Nativity
LOCATION:St. John Lutheran Retreat Center 4740 Hwy 36 N Bellville\, TX 77418
UID:e.2500.3688
SEQUENCE:3
DTSTAMP:20260423T113949Z
URL:https://business.bellville.com/events/details/living-nativity-12-10-2017-3688
END:VEVENT

END:VCALENDAR
