BEGIN:VCALENDAR
VERSION:2.0
PRODID:-//ChamberMaster//Event Calendar 2.0//EN
METHOD:PUBLISH
X-PUBLISHED-TTL:P3D
REFRESH-INTERVAL:P3D
CALSCALE:GREGORIAN
BEGIN:VEVENT
DTSTART:20170408T000000Z
DTEND:20170408T045500Z
X-MICROSOFT-CDO-ALLDAYEVENT:FALSE
SUMMARY:Live Music
DESCRIPTION:Restaurant open at 5 pm - 10 pm Stewart Ray at 7 pm
X-ALT-DESC;FMTTYPE=text/html:Restaurant open at 5 pm - 10 pm Stewart Ray at 7 pm
LOCATION:Emery's Buffalo Creek 10827 HWY 36 Bellville\, TX 77418
UID:e.2500.3386
SEQUENCE:3
DTSTAMP:20260423T223906Z
URL:https://business.bellville.com/events/details/live-music-3386
END:VEVENT

END:VCALENDAR
