BEGIN:VCALENDAR
VERSION:2.0
PRODID:-//ChamberMaster//Event Calendar 2.0//EN
METHOD:PUBLISH
X-PUBLISHED-TTL:P3D
REFRESH-INTERVAL:P3D
CALSCALE:GREGORIAN
BEGIN:VEVENT
DTSTART:20170422T000000Z
DTEND:20170422T045500Z
X-MICROSOFT-CDO-ALLDAYEVENT:FALSE
SUMMARY:Live Music
DESCRIPTION:Restaurant opens at 5 pm - 10 pm Live Music - Heath Childs performs at 7 pm
X-ALT-DESC;FMTTYPE=text/html:Restaurant opens at 5 pm - 10 pm Live Music - Heath Childs performs at 7 pm
LOCATION:Emery's Buffalo Creek 10827 HWY 36 Bellville\, TX 77418
UID:e.2500.3387
SEQUENCE:3
DTSTAMP:20260423T223946Z
URL:https://business.bellville.com/events/details/live-music-04-21-2017-3387
END:VEVENT

END:VCALENDAR
