BEGIN:VCALENDAR
VERSION:2.0
PRODID:-//ChamberMaster//Event Calendar 2.0//EN
METHOD:PUBLISH
X-PUBLISHED-TTL:P3D
REFRESH-INTERVAL:P3D
CALSCALE:GREGORIAN
BEGIN:VEVENT
DTSTART:20170429T130000Z
DTEND:20170429T170000Z
X-MICROSOFT-CDO-ALLDAYEVENT:FALSE
SUMMARY:Little Anglers Fishing Tournament
DESCRIPTION:
X-ALT-DESC;FMTTYPE=text/html:
LOCATION:Camp Woodmen 5193 Hwy 36 N Bellville\, TX 77418
UID:e.2500.3393
SEQUENCE:3
DTSTAMP:20260423T224550Z
URL:https://business.bellville.com/events/details/little-anglers-fishing-tournament-3393
END:VEVENT

END:VCALENDAR
