BEGIN:VCALENDAR
VERSION:2.0
PRODID:-//ChamberMaster//Event Calendar 2.0//EN
METHOD:PUBLISH
X-PUBLISHED-TTL:P3D
REFRESH-INTERVAL:P3D
CALSCALE:GREGORIAN
BEGIN:VEVENT
DTSTART:20180708T003000Z
DTEND:20180708T040000Z
X-MICROSOFT-CDO-ALLDAYEVENT:FALSE
SUMMARY:Lions Sealy Dance Club
DESCRIPTION:Public Dance Country Western Music provided by : Charles and the Fabulous Four
X-ALT-DESC;FMTTYPE=text/html:Public Dance Country Western Music provided by : Charles and the Fabulous Four
LOCATION:American Legion Hall 1630 Meyer Street Sealy\, TX 77474
UID:e.2500.6889
SEQUENCE:3
DTSTAMP:20260422T222505Z
URL:https://business.bellville.com/events/details/lions-sealy-dance-club-6889
END:VEVENT

END:VCALENDAR
