BEGIN:VCALENDAR
VERSION:2.0
PRODID:-//ChamberMaster//Event Calendar 2.0//EN
METHOD:PUBLISH
X-PUBLISHED-TTL:P3D
REFRESH-INTERVAL:P3D
CALSCALE:GREGORIAN
BEGIN:VEVENT
DTSTART:20160923T150000Z
DTEND:20160923T190000Z
X-MICROSOFT-CDO-ALLDAYEVENT:FALSE
SUMMARY:Lions KidSight USA Vision Screenings
DESCRIPTION:Sponsored By\n\nBELLVILLE LIONS CLUB
X-ALT-DESC;FMTTYPE=text/html:Sponsored By<br />\nBELLVILLE LIONS CLUB
LOCATION:Concordia Hall 952 S Tesch Bellville\, TX 77418
UID:e.2500.1755
SEQUENCE:3
DTSTAMP:20260424T095547Z
URL:https://business.bellville.com/events/details/lions-kidsight-usa-vision-screenings-09-23-2016-1755
END:VEVENT

END:VCALENDAR
