BEGIN:VCALENDAR
VERSION:2.0
PRODID:-//ChamberMaster//Event Calendar 2.0//EN
METHOD:PUBLISH
X-PUBLISHED-TTL:P3D
REFRESH-INTERVAL:P3D
CALSCALE:GREGORIAN
BEGIN:VEVENT
DTSTART:20180304T000000Z
DTEND:20180303T180000Z
X-MICROSOFT-CDO-ALLDAYEVENT:FALSE
SUMMARY:Lions DEN (Dining and Entertainment Night)
DESCRIPTION:
X-ALT-DESC;FMTTYPE=text/html:
LOCATION:Austin County Expo Center Bellville\, Texas
UID:e.2500.1772
SEQUENCE:3
DTSTAMP:20260423T053225Z
URL:https://business.bellville.com/events/details/lions-den-dining-and-entertainment-night-1772
END:VEVENT

END:VCALENDAR
