BEGIN:VCALENDAR
VERSION:2.0
PRODID:-//ChamberMaster//Event Calendar 2.0//EN
METHOD:PUBLISH
X-PUBLISHED-TTL:P3D
REFRESH-INTERVAL:P3D
CALSCALE:GREGORIAN
BEGIN:VEVENT
DTSTART:20160228T000000Z
DTEND:20160228T040000Z
X-MICROSOFT-CDO-ALLDAYEVENT:FALSE
SUMMARY:Lion's Club Den Night
DESCRIPTION:The Lion's Club Annual DEN Night will be a Mardi Gras themed night of dinner\, drinks\, and entertainment. The support shown for this fundraiser is always so very humbling to the club and we are hoping this year is the best year yet!
X-ALT-DESC;FMTTYPE=text/html:The Lion&#39\;s Club Annual DEN Night will be a Mardi Gras themed night of dinner\, drinks\, and entertainment. The support shown for this fundraiser is always so very humbling to the club and we are hoping this year is the best year yet!
LOCATION:Austin County Fair Convention & Expo Center: 1076 E Hill\, Bellville 77418
UID:e.2500.312
SEQUENCE:3
DTSTAMP:20260424T204412Z
URL:https://business.bellville.com/events/details/lion-s-club-den-night-02-27-2016-312
END:VEVENT

END:VCALENDAR
