BEGIN:VCALENDAR
VERSION:2.0
PRODID:-//ChamberMaster//Event Calendar 2.0//EN
METHOD:PUBLISH
X-PUBLISHED-TTL:P3D
REFRESH-INTERVAL:P3D
CALSCALE:GREGORIAN
BEGIN:VEVENT
DTSTART:20161105T140000Z
DTEND:20161105T200000Z
X-MICROSOFT-CDO-ALLDAYEVENT:FALSE
SUMMARY:Life Up a Child\, Volunteer Today!
DESCRIPTION:What is a CASA?\n\nCASA stands for Court Appointed Special Advocates.   When a child enters the foster care system because his or her home is no longer safe\, a judge may appoint a committed volunteer advocate called a CASA to advocate for the child's best interest.  CASA advocates are screened and highly trained and then appointed by judges to represent and advocate for a child's best interests in the child protection system. CASA advocates are each assigned to help one child or set of siblings at a time so they can focus on giving that child or sibling group the individualized advocacy and attention they need and deserve. CASA advocates save taxpayers money and children's futures by helping children find safe\, permanent homes as soon as possible.\n\n?CASA volunteers are just like you and me.  CASA volunteers Change Lives!\n\n?Join us for our upcoming Court Appointed Special Advocates Academy starting on November 5th.
X-ALT-DESC;FMTTYPE=text/html:<span style="font-size: 16px\;"><strong>What is a CASA?</strong></span><br />\nCASA stands for Court Appointed Special Advocates.&trade\;&nbsp\; When a child enters the foster care system because his or her home is no longer safe\, a judge may appoint a committed volunteer advocate called a CASA to advocate for the child&rsquo\;s best interest.&nbsp\;&nbsp\;CASA advocates are screened and highly trained and then appointed by judges to represent and advocate for a child&rsquo\;s best interests in the child protection system. CASA advocates are each assigned to help one child or set of siblings at a time so they can focus on giving that child or sibling group the individualized advocacy and attention they need and deserve. CASA advocates save taxpayers money and children&rsquo\;s futures by helping children find safe\, permanent homes as soon as possible.<br />\n?CASA volunteers are just like you and me.&nbsp\; CASA volunteers Change Lives!<br />\n?Join us for our upcoming Court Appointed Special Advocates Academy starting on November 5th.
LOCATION:To Be Determined - depending on where the largest number of applicants are located ?CASA for Kids of South Central Texas serves Austin\, Colorado\, Waller & Washington counties.
UID:e.2500.1770
SEQUENCE:3
DTSTAMP:20260424T071414Z
URL:https://business.bellville.com/events/details/life-up-a-child-volunteer-today-1770
END:VEVENT

END:VCALENDAR
