BEGIN:VCALENDAR
VERSION:2.0
PRODID:-//ChamberMaster//Event Calendar 2.0//EN
METHOD:PUBLISH
X-PUBLISHED-TTL:P3D
REFRESH-INTERVAL:P3D
CALSCALE:GREGORIAN
BEGIN:VEVENT
DTSTART:20171221T220000Z
DTEND:20171222T000000Z
X-MICROSOFT-CDO-ALLDAYEVENT:FALSE
SUMMARY:Life Changes Christmas Open House
DESCRIPTION:
X-ALT-DESC;FMTTYPE=text/html:
LOCATION:18 North Cummings Bellville TX 77418
UID:e.2500.3710
SEQUENCE:3
DTSTAMP:20260423T113901Z
URL:https://business.bellville.com/events/details/life-changes-christmas-open-house-3710
END:VEVENT

END:VCALENDAR
