BEGIN:VCALENDAR
VERSION:2.0
PRODID:-//ChamberMaster//Event Calendar 2.0//EN
METHOD:PUBLISH
X-PUBLISHED-TTL:P3D
REFRESH-INTERVAL:P3D
CALSCALE:GREGORIAN
BEGIN:VEVENT
DTSTART:20170923T130000Z
DTEND:20170923T170000Z
X-MICROSOFT-CDO-ALLDAYEVENT:FALSE
SUMMARY:License to Carry Handgun Class "LTC"
DESCRIPTION:
X-ALT-DESC;FMTTYPE=text/html:
LOCATION:
UID:e.2500.3619
SEQUENCE:3
DTSTAMP:20260423T143932Z
URL:https://business.bellville.com/events/details/license-to-carry-handgun-class-ltc-3619
END:VEVENT

END:VCALENDAR
