BEGIN:VCALENDAR
VERSION:2.0
PRODID:-//ChamberMaster//Event Calendar 2.0//EN
METHOD:PUBLISH
X-PUBLISHED-TTL:P3D
REFRESH-INTERVAL:P3D
CALSCALE:GREGORIAN
BEGIN:VEVENT
DTSTART;VALUE=DATE:20160331
DTEND;VALUE=DATE:20160401
TRANSP:TRANSPARENT
X-MICROSOFT-CDO-ALLDAYEVENT:TRUE
SUMMARY:Last Chance 2016 Bellville Chamber of Commerce Membership Drive
DESCRIPTION:If you have not already renewed your 2016 Bellville Chamber of Commerce membership please take the time to renew before Thursday March 31\, 2016.  All members who do not renew by this date will be classified as inactive in ChamberMaster and will lose all of the benefits of being a Chamber of Commerce Member.\n\n\n\nThere will be an additional $10 administrative charge if you allow your membership status to become inactive and you later decide to rejoin.
X-ALT-DESC;FMTTYPE=text/html:If you have not already renewed your 2016 Bellville Chamber of Commerce membership please take the time to renew before Thursday March 31\, 2016.&nbsp\; All members who do not renew by this date will be classified as inactive in ChamberMaster and will lose all of the benefits of being a Chamber of Commerce Member.<br />\n<br />\nThere will be an additional $10 administrative charge if you allow your membership status to become inactive and you later decide to rejoin.
LOCATION:Bellville Chamber of Commerce 742 West Main Bellville\, TX 77418 (979) 865-3407
UID:e.2500.1477
SEQUENCE:3
DTSTAMP:20260424T192703Z
URL:https://business.bellville.com/events/details/last-chance-2016-bellville-chamber-of-commerce-membership-drive-03-31-2016-1477
END:VEVENT

END:VCALENDAR
