BEGIN:VCALENDAR
VERSION:2.0
PRODID:-//ChamberMaster//Event Calendar 2.0//EN
METHOD:PUBLISH
X-PUBLISHED-TTL:P3D
REFRESH-INTERVAL:P3D
CALSCALE:GREGORIAN
BEGIN:VEVENT
DTSTART:20181013T123000Z
DTEND:20181013T170000Z
X-MICROSOFT-CDO-ALLDAYEVENT:FALSE
SUMMARY:Klays for K-9's
DESCRIPTION:
X-ALT-DESC;FMTTYPE=text/html:
LOCATION:Texas Premier Sporting Arms 7311 Hwy 36 S Sealy TX 77474
UID:e.2500.6963
SEQUENCE:3
DTSTAMP:20260422T171951Z
URL:https://business.bellville.com/events/details/klays-for-k-9-s-6963
END:VEVENT

END:VCALENDAR
