BEGIN:VCALENDAR
VERSION:2.0
PRODID:-//ChamberMaster//Event Calendar 2.0//EN
METHOD:PUBLISH
X-PUBLISHED-TTL:P3D
REFRESH-INTERVAL:P3D
CALSCALE:GREGORIAN
BEGIN:VEVENT
DTSTART;VALUE=DATE:20171014
DTEND;VALUE=DATE:20171015
TRANSP:TRANSPARENT
X-MICROSOFT-CDO-ALLDAYEVENT:TRUE
SUMMARY:Klays for K-9's
DESCRIPTION:
X-ALT-DESC;FMTTYPE=text/html:
LOCATION:Texas Premier Sporting Arms 7311 Hwy 36 S Sealy\, TX 77474
UID:e.2500.3628
SEQUENCE:3
DTSTAMP:20260423T124626Z
URL:https://business.bellville.com/events/details/klays-for-k-9-s-3628
END:VEVENT

END:VCALENDAR
