BEGIN:VCALENDAR
VERSION:2.0
PRODID:-//ChamberMaster//Event Calendar 2.0//EN
METHOD:PUBLISH
X-PUBLISHED-TTL:P3D
REFRESH-INTERVAL:P3D
CALSCALE:GREGORIAN
BEGIN:VEVENT
DTSTART:20180425T200000Z
DTEND:20180426T000000Z
X-MICROSOFT-CDO-ALLDAYEVENT:FALSE
SUMMARY:Kids Fun Day
DESCRIPTION:Hot Dogs\n\nIce Cream\n\nFace Painting\n\nGames\n\nFUN
X-ALT-DESC;FMTTYPE=text/html:<div>Hot Dogs</div>\n\n<div>Ice Cream</div>\n\n<div>Face Painting</div>\n\n<div>Games</div>\n\n<div>FUN</div>\n
LOCATION:Casa For Kids 1500 S Day Brenham TX 77833
UID:e.2500.3762
SEQUENCE:3
DTSTAMP:20260423T051850Z
URL:https://business.bellville.com/events/details/kids-fun-day-3762
END:VEVENT

END:VCALENDAR
