BEGIN:VCALENDAR
VERSION:2.0
PRODID:-//ChamberMaster//Event Calendar 2.0//EN
METHOD:PUBLISH
X-PUBLISHED-TTL:P3D
REFRESH-INTERVAL:P3D
CALSCALE:GREGORIAN
BEGIN:VEVENT
DTSTART:20170429T150000Z
DTEND:20170429T190000Z
X-MICROSOFT-CDO-ALLDAYEVENT:FALSE
SUMMARY:Kids FUN Day
DESCRIPTION:April is Child Abuse Awareness & Prevention Month.  CASA for Kids is hosting a Kids Fun Day to raise awareness\, but also because we believe every child deserves a day of fun!  There will be FREE hot dogs\, sausage wraps\, Blue Bell ice cream\, snowcones\, popcorn\, & drinks.  Activities will include face painting\, a Clown\, an obstacle course\, games\, Sports Clips haircuts .. all with TONS of FUN!!  \n\nCASA for Kids of South Central Texas trains members of the community to be the voice for children in the court system who have been removed from their home due to abuse or neglect.  \n\nCASA for Kids of South Central Texas offices out of Brenham\, but serves Austin\, Colorado\, Waller and Washington counties.  We are celebrating 10 years of helping these children find safe\, permanent loving homes!
X-ALT-DESC;FMTTYPE=text/html:April is Child Abuse Awareness &amp\; Prevention Month. &nbsp\;CASA for Kids is hosting a Kids Fun Day&nbsp\;<span style="font-family: sans-serif\,arial\,verdana\,trebuchet ms\;">to raise awareness\,&nbsp\;</span>but also because we believe every child deserves a day of fun! &nbsp\;There will be FREE hot dogs\, sausage wraps\, Blue Bell ice cream\, snowcones\, popcorn\, &amp\; drinks. &nbsp\;Activities will include face painting\, a Clown\, an obstacle course\, games\, Sports Clips haircuts .. all with TONS of FUN!! &nbsp\;<br />\nCASA for Kids of South Central Texas trains members of the community to be the voice for children in the court system who have been removed from their home due to abuse or neglect. &nbsp\;<br />\nCASA for Kids of South Central Texas offices out of Brenham\, but serves Austin\, Colorado\, Waller and Washington counties. &nbsp\;We are celebrating 10 years of helping these children find safe\, permanent loving homes!&nbsp\;
LOCATION:The Gazebo in Hempstead - between the Railroad tracks by McDonald's and the Post Office Look for all the FUN and Blue Ballooons and Ribbons!
UID:e.2500.3394
SEQUENCE:3
DTSTAMP:20260423T223904Z
URL:https://business.bellville.com/events/details/kids-fun-day-3394
END:VEVENT

END:VCALENDAR
