BEGIN:VCALENDAR
VERSION:2.0
PRODID:-//ChamberMaster//Event Calendar 2.0//EN
METHOD:PUBLISH
X-PUBLISHED-TTL:P3D
REFRESH-INTERVAL:P3D
CALSCALE:GREGORIAN
BEGIN:VEVENT
DTSTART:20180908T223000Z
DTEND:20180909T023000Z
X-MICROSOFT-CDO-ALLDAYEVENT:FALSE
SUMMARY:Keep Texas Red - Grand Old Banquet
DESCRIPTION:Honoring Austin County EMS
X-ALT-DESC;FMTTYPE=text/html:Honoring Austin County EMS
LOCATION:Austin County Expo Center Bellville TX 77418
UID:e.2500.6923
SEQUENCE:3
DTSTAMP:20260422T185727Z
URL:https://business.bellville.com/events/details/keep-texas-red-grand-old-banquet-6923
END:VEVENT

END:VCALENDAR
