BEGIN:VCALENDAR
VERSION:2.0
PRODID:-//ChamberMaster//Event Calendar 2.0//EN
METHOD:PUBLISH
X-PUBLISHED-TTL:P3D
REFRESH-INTERVAL:P3D
CALSCALE:GREGORIAN
BEGIN:VEVENT
DTSTART:20170923T020000Z
DTEND:20170923T045500Z
X-MICROSOFT-CDO-ALLDAYEVENT:FALSE
SUMMARY:Junior High Homecoming Dance
DESCRIPTION:WELCOMING\n\nBellville Jr High\n\nFaith Academy Jr High\n\nBellville Jr High Home School
X-ALT-DESC;FMTTYPE=text/html:WELCOMING<br />\nBellville Jr High<br />\nFaith Academy Jr High<br />\nBellville Jr High Home School
LOCATION:St John Lutheran Faith Center 520 N Holland Bellville TX 77418
UID:e.2500.3618
SEQUENCE:3
DTSTAMP:20260423T143944Z
URL:https://business.bellville.com/events/details/junior-high-homecoming-dance-3618
END:VEVENT

END:VCALENDAR
