BEGIN:VCALENDAR
VERSION:2.0
PRODID:-//ChamberMaster//Event Calendar 2.0//EN
METHOD:PUBLISH
X-PUBLISHED-TTL:P3D
REFRESH-INTERVAL:P3D
CALSCALE:GREGORIAN
BEGIN:VEVENT
DTSTART;VALUE=DATE:20160604
DTEND;VALUE=DATE:20160605
TRANSP:TRANSPARENT
X-MICROSOFT-CDO-ALLDAYEVENT:TRUE
SUMMARY:June Market Day
DESCRIPTION:Our last Market Day until September.  Come out for a great time!  If you are a vendor\, click the registration button to sign up.
X-ALT-DESC;FMTTYPE=text/html:Our last Market Day until September. &nbsp\;Come out for a great time! &nbsp\;If you are a vendor\, click the registration button to sign up.
LOCATION:
UID:e.2500.1510
SEQUENCE:3
DTSTAMP:20260424T144144Z
URL:https://business.bellville.com/events/details/june-market-day-06-04-2016-1510
END:VEVENT

END:VCALENDAR
