BEGIN:VCALENDAR
VERSION:2.0
PRODID:-//ChamberMaster//Event Calendar 2.0//EN
METHOD:PUBLISH
X-PUBLISHED-TTL:P3D
REFRESH-INTERVAL:P3D
CALSCALE:GREGORIAN
BEGIN:VEVENT
DTSTART:20170526T223000Z
DTEND:20170527T045500Z
X-MICROSOFT-CDO-ALLDAYEVENT:FALSE
SUMMARY:Josh Ward performs at The Kenney Store
DESCRIPTION:Summer Kick Off Party Outback
X-ALT-DESC;FMTTYPE=text/html:Summer Kick Off Party Outback
LOCATION:
UID:e.2500.3415
SEQUENCE:3
DTSTAMP:20260423T205623Z
URL:https://business.bellville.com/events/details/josh-ward-performs-at-the-kenney-store-3415
END:VEVENT

END:VCALENDAR
