BEGIN:VCALENDAR
VERSION:2.0
PRODID:-//ChamberMaster//Event Calendar 2.0//EN
METHOD:PUBLISH
X-PUBLISHED-TTL:P3D
REFRESH-INTERVAL:P3D
CALSCALE:GREGORIAN
BEGIN:VEVENT
DTSTART:20171117T140000Z
DTEND:20171118T230000Z
X-MICROSOFT-CDO-ALLDAYEVENT:FALSE
SUMMARY:Job Fair - Cat Spec Specialty
DESCRIPTION:
X-ALT-DESC;FMTTYPE=text/html:
LOCATION:First National Bank Civic Center 11 N. Bell Bellville\, TX 77418
UID:e.2500.3676
SEQUENCE:3
DTSTAMP:20260423T113437Z
URL:https://business.bellville.com/events/details/job-fair-cat-spec-specialty-3676
END:VEVENT

END:VCALENDAR
