BEGIN:VCALENDAR
VERSION:2.0
PRODID:-//ChamberMaster//Event Calendar 2.0//EN
METHOD:PUBLISH
X-PUBLISHED-TTL:P3D
REFRESH-INTERVAL:P3D
CALSCALE:GREGORIAN
BEGIN:VEVENT
DTSTART:20160227T000000Z
DTEND:20160227T050000Z
X-MICROSOFT-CDO-ALLDAYEVENT:FALSE
SUMMARY:JB and the Moonshine Band at Buffalo Creek\, Bellville
DESCRIPTION:JB and The Moonshine Band will once again rock the stage at Buffalo Creek Friday\, February 26 with special guest\, Aaron Einhouse  opening the show.\n\nSince taking the plunge into the music business\, JB and The Moonshine Band have seen enough success for JB to realize he's already accomplished his first set of goals. In just over three years\, JB has written a couple of tunes that wound up atop the Billboard Texas music charts and he and the band have recorded and released two acclaimed albums Ain't Goin' Back to Jail and the current Beer for Breakfast on the Average Joes Entertainment label.   Tickets are available on line for $12 and at the door for $15
X-ALT-DESC;FMTTYPE=text/html:<span style="background-color:rgb(255\, 255\, 255)\; color:rgb(28\, 48\, 47)\; font-family:helvetica neue\,helvetica\,arial\,sans-serif\; font-size:14px">JB and The Moonshine Band will once again rock the stage at Buffalo Creek Friday\, February 26 with special guest\,&nbsp\;<a href="http://www.aaroneinhouse.com/">Aaron Einhouse</a>&nbsp\; opening the show.<br />\nSince taking the plunge into the music business\, <a href="http://www.jbandthemoonshineband.com/">JB and The Moonshine Band</a> have seen enough success for <a href="https://www.facebook.com/JBandtheMoonshineBand/?fref=ts">JB</a> to realize he&rsquo\;s already accomplished his first set of goals. In just over three years\, JB has written a couple of tunes that wound up atop the&nbsp\;Billboard&nbsp\;Texas music charts and he and the band have recorded and released two acclaimed albums&mdash\;</span><em>Ain&rsquo\;t Goin&rsquo\; Back to Jail&nbsp\;</em><span style="background-color:rgb(255\, 255\, 255)\; color:rgb(28\, 48\, 47)\; font-family:helvetica neue\,helvetica\,arial\,sans-serif\; font-size:14px">and the current&nbsp\;</span><em>Beer for Breakfast</em><span style="background-color:rgb(255\, 255\, 255)\; color:rgb(28\, 48\, 47)\; font-family:helvetica neue\,helvetica\,arial\,sans-serif\; font-size:14px">&nbsp\;on the Average Joes Entertainment label. &nbsp\; <a href="http://buffalocreekbellville.ticketleap.com/jb-moonshine-band/">Tickets are available on line</a> for $12 and at the door for $15 &nbsp\;&nbsp\;</span><br />\n&nbsp\;
LOCATION:10827 Hwy 36 S between Sealy and Bellville
UID:e.2500.970
SEQUENCE:3
DTSTAMP:20260424T205016Z
URL:https://business.bellville.com/events/details/jb-and-the-moonshine-band-at-buffalo-creek-bellville-02-26-2016-970
END:VEVENT

END:VCALENDAR
