BEGIN:VCALENDAR
VERSION:2.0
PRODID:-//ChamberMaster//Event Calendar 2.0//EN
METHOD:PUBLISH
X-PUBLISHED-TTL:P3D
REFRESH-INTERVAL:P3D
CALSCALE:GREGORIAN
BEGIN:VEVENT
DTSTART:20170304T210000Z
DTEND:20170304T223000Z
X-MICROSOFT-CDO-ALLDAYEVENT:FALSE
SUMMARY:James Dick\, Concert Pianist
DESCRIPTION:An afternoon of Solo Piano Virtuosity from the Founder and Artistic Director of Round Top Festival Institute Steinway pianist\, James Dick\, will once again marvel his audience with a stunning performance on the Festival Concert Hall stage. Works by J.S. Bach\, L. van Beethoven\, Sergei Prokofiev and Franz Schubert
X-ALT-DESC;FMTTYPE=text/html:An afternoon of Solo Piano Virtuosity from the Founder and Artistic Director of Round Top Festival Institute Steinway pianist\, James Dick\, will once again marvel his audience with a stunning performance on the Festival Concert Hall stage. Works by J.S. Bach\, L. van Beethoven\, Sergei Prokofiev and Franz Schubert
LOCATION:Festival Concert Hall\, 248 Jaster Road\, Round Top\, TX 78954
UID:e.2500.3183
SEQUENCE:3
DTSTAMP:20260424T002052Z
URL:https://business.bellville.com/events/details/james-dick-concert-pianist-3183
END:VEVENT

END:VCALENDAR
