BEGIN:VCALENDAR
VERSION:2.0
PRODID:-//ChamberMaster//Event Calendar 2.0//EN
METHOD:PUBLISH
X-PUBLISHED-TTL:P3D
REFRESH-INTERVAL:P3D
CALSCALE:GREGORIAN
BEGIN:VEVENT
DTSTART:20180628T220000Z
DTEND:20180629T000000Z
X-MICROSOFT-CDO-ALLDAYEVENT:FALSE
SUMMARY:J Hill Properties Business After Hours
DESCRIPTION:Networking\, live music\, refreshments and door prizes\n\n\n\nSponsorships by\n\nCapital Farm Credit\n\n Lynn Kiecke Lackey & Eason Insurance Group\n\n\n\nBeverages by\n\nKristen Distributing\n\n Mike Hopkins Distributing
X-ALT-DESC;FMTTYPE=text/html:<strong>Networking\, live music\, refreshments and door prizes</strong><br />\n<br />\n<strong>Sponsorships by</strong><br />\nCapital Farm Credit<br />\n&#8203\;Lynn Kiecke Lackey &amp\; Eason Insurance Group<br />\n<br />\n<strong>Beverages by</strong><br />\nKristen Distributing<br />\n&#8203\;Mike Hopkins Distributing
LOCATION:22 Holland St Bellville TX 77418
UID:e.2500.6883
SEQUENCE:3
DTSTAMP:20260423T000332Z
URL:https://business.bellville.com/events/details/j-hill-properties-business-after-hours-6883
END:VEVENT

END:VCALENDAR
