BEGIN:VCALENDAR
VERSION:2.0
PRODID:-//ChamberMaster//Event Calendar 2.0//EN
METHOD:PUBLISH
X-PUBLISHED-TTL:P3D
REFRESH-INTERVAL:P3D
CALSCALE:GREGORIAN
BEGIN:VEVENT
DTSTART;VALUE=DATE:20180728
DTEND;VALUE=DATE:20180729
TRANSP:TRANSPARENT
X-MICROSOFT-CDO-ALLDAYEVENT:TRUE
SUMMARY:Industry Volunteer Fire & Rescue Annual Celebration
DESCRIPTION:Fried Chicken   Auction   Tractor Show   & More!
X-ALT-DESC;FMTTYPE=text/html:<br />\nFried Chicken &bull\; Auction &bull\; Tractor Show &bull\; &amp\; More!
LOCATION:Firemen's Hall 16632 Fordtran Blvd Industry\, TX 78944
UID:e.2500.534
SEQUENCE:3
DTSTAMP:20260422T222504Z
URL:https://business.bellville.com/events/details/industry-volunteer-fire-rescue-annual-celebration-534
END:VEVENT

END:VCALENDAR
