BEGIN:VCALENDAR
VERSION:2.0
PRODID:-//ChamberMaster//Event Calendar 2.0//EN
METHOD:PUBLISH
X-PUBLISHED-TTL:P3D
REFRESH-INTERVAL:P3D
CALSCALE:GREGORIAN
BEGIN:VEVENT
DTSTART:20170324T000000Z
DTEND:20170324T013000Z
X-MICROSOFT-CDO-ALLDAYEVENT:FALSE
SUMMARY:How The Legacy of Medieval Literature and History is Still Alive Today
DESCRIPTION:For Your Information?presents How The Legacy of Medieval Literature and History is Still Alive Today Why are the Middle Ages still relevant in the modern world? Why do we still read\, study and talk about them? Come hear Dr. Debbie Nelson-Campbell share her passion for the Middle Ages. Thursday March 23\, 2017 at 7:00p.m. Round Top Family Library\, 206 W. Mill St. Round Top\, Tx 78954 www.ilovetoread.org admission is free
X-ALT-DESC;FMTTYPE=text/html:For Your Information?presents How The Legacy of Medieval Literature and History is Still Alive Today Why are the Middle Ages still relevant in the modern world? Why do we still read\, study and talk about them? Come hear Dr. Debbie Nelson-Campbell share her passion for the Middle Ages. Thursday March 23\, 2017 at 7:00p.m. Round Top Family Library\, 206 W. Mill St. Round Top\, Tx 78954 www.ilovetoread.org admission is free
LOCATION:Round Top Family Library\, 206 W. Mill St. Round Top\, Tx 78954
UID:e.2500.3193
SEQUENCE:3
DTSTAMP:20260424T020453Z
URL:https://business.bellville.com/events/details/how-the-legacy-of-medieval-literature-and-history-is-still-alive-today-3193
END:VEVENT

END:VCALENDAR
