BEGIN:VCALENDAR
VERSION:2.0
PRODID:-//ChamberMaster//Event Calendar 2.0//EN
METHOD:PUBLISH
X-PUBLISHED-TTL:P3D
REFRESH-INTERVAL:P3D
CALSCALE:GREGORIAN
BEGIN:VEVENT
DTSTART:20190226T160000Z
DTEND:20190226T200000Z
X-MICROSOFT-CDO-ALLDAYEVENT:FALSE
SUMMARY:Hospice Brazos Valley New Volunteer Training
DESCRIPTION:RSVP\n\nJessica Andrade\n\n979-277-9525
X-ALT-DESC;FMTTYPE=text/html:RSVP<br />\nJessica Andrade<br />\n979-277-9525
LOCATION:
UID:e.2500.7402
SEQUENCE:3
DTSTAMP:20260422T104624Z
URL:https://business.bellville.com/events/details/hospice-brazos-valley-new-volunteer-training-7402
END:VEVENT

END:VCALENDAR
