BEGIN:VCALENDAR
VERSION:2.0
PRODID:-//ChamberMaster//Event Calendar 2.0//EN
METHOD:PUBLISH
X-PUBLISHED-TTL:P3D
REFRESH-INTERVAL:P3D
CALSCALE:GREGORIAN
BEGIN:VEVENT
DTSTART:20180410T150000Z
DTEND:20180410T200000Z
X-MICROSOFT-CDO-ALLDAYEVENT:FALSE
SUMMARY:Hospice Brazos Valley New Volunteer Training
DESCRIPTION:
X-ALT-DESC;FMTTYPE=text/html:
LOCATION:
UID:e.2500.4762
SEQUENCE:3
DTSTAMP:20260423T053059Z
URL:https://business.bellville.com/events/details/hospice-brazos-valley-new-volunteer-training-4762
END:VEVENT

END:VCALENDAR
