BEGIN:VCALENDAR
VERSION:2.0
PRODID:-//ChamberMaster//Event Calendar 2.0//EN
METHOD:PUBLISH
X-PUBLISHED-TTL:P3D
REFRESH-INTERVAL:P3D
CALSCALE:GREGORIAN
BEGIN:VEVENT
DTSTART:20181114T180000Z
DTEND:20181114T185000Z
X-MICROSOFT-CDO-ALLDAYEVENT:FALSE
SUMMARY:Holiday Social Media Lunch and Learn
DESCRIPTION:Learn to use social media to help your business this Holiday Season\n\n\n\n Presented by Lite House Media\n\n Shawn Larson
X-ALT-DESC;FMTTYPE=text/html:Learn to use social media to help your business this Holiday Season<br />\n<br />\n&#8203\;Presented by Lite House Media<br />\n&#8203\;Shawn Larson
LOCATION:Bellville Chamber of Commerce 742 W Main St Bellville TX 77418
UID:e.2500.6987
SEQUENCE:3
DTSTAMP:20260422T173500Z
URL:https://business.bellville.com/events/details/holiday-social-media-lunch-and-learn-6987
END:VEVENT

END:VCALENDAR
