BEGIN:VCALENDAR
VERSION:2.0
PRODID:-//ChamberMaster//Event Calendar 2.0//EN
METHOD:PUBLISH
X-PUBLISHED-TTL:P3D
REFRESH-INTERVAL:P3D
CALSCALE:GREGORIAN
BEGIN:VEVENT
DTSTART:20180222T173000Z
DTEND:20180222T193000Z
X-MICROSOFT-CDO-ALLDAYEVENT:FALSE
SUMMARY:Hermann Furniture Ladies Luncheon & Design Seminar
DESCRIPTION:Speaker Jennifer Hermann\n\n"Decorating for Spring"\n\n\n\nMeal Catered by Funky Art Cafe
X-ALT-DESC;FMTTYPE=text/html:Speaker Jennifer Hermann<br />\n&quot\;Decorating for Spring&quot\;<br />\n<br />\nMeal Catered by Funky Art Cafe
LOCATION:Brenham Country Club 4107 Hwy 105 Brenham TX 77833
UID:e.2500.3742
SEQUENCE:3
DTSTAMP:20260423T071147Z
URL:https://business.bellville.com/events/details/hermann-furniture-ladies-luncheon-design-seminar-3742
END:VEVENT

END:VCALENDAR
