BEGIN:VCALENDAR
VERSION:2.0
PRODID:-//ChamberMaster//Event Calendar 2.0//EN
METHOD:PUBLISH
X-PUBLISHED-TTL:P3D
REFRESH-INTERVAL:P3D
CALSCALE:GREGORIAN
BEGIN:VEVENT
DTSTART:20170429T000000Z
DTEND:20170429T040000Z
X-MICROSOFT-CDO-ALLDAYEVENT:FALSE
SUMMARY:Hawaiian Luau Dance
DESCRIPTION:
X-ALT-DESC;FMTTYPE=text/html:
LOCATION:Boys and Girls Club of Bellville
UID:e.2500.3399
SEQUENCE:3
DTSTAMP:20260423T223940Z
URL:https://business.bellville.com/events/details/hawaiian-luau-dance-3399
END:VEVENT

END:VCALENDAR
