BEGIN:VCALENDAR
VERSION:2.0
PRODID:-//ChamberMaster//Event Calendar 2.0//EN
METHOD:PUBLISH
X-PUBLISHED-TTL:P3D
REFRESH-INTERVAL:P3D
CALSCALE:GREGORIAN
BEGIN:VEVENT
DTSTART:20181028T160000Z
DTEND:20181028T170000Z
X-MICROSOFT-CDO-ALLDAYEVENT:FALSE
SUMMARY:Harvest Festival @ First United Methodist Church Sealy
DESCRIPTION:
X-ALT-DESC;FMTTYPE=text/html:
LOCATION:Fellowship Hall 200 Atchison Sealy TX
UID:e.2500.6970
SEQUENCE:3
DTSTAMP:20260422T190111Z
URL:https://business.bellville.com/events/details/harvest-festival-first-united-methodist-church-sealy-6970
END:VEVENT

END:VCALENDAR
