BEGIN:VCALENDAR
VERSION:2.0
PRODID:-//ChamberMaster//Event Calendar 2.0//EN
METHOD:PUBLISH
X-PUBLISHED-TTL:P3D
REFRESH-INTERVAL:P3D
CALSCALE:GREGORIAN
BEGIN:VEVENT
DTSTART;VALUE=DATE:20171219
DTEND;VALUE=DATE:20171221
TRANSP:TRANSPARENT
X-MICROSOFT-CDO-ALLDAYEVENT:TRUE
SUMMARY:Hard Candy Christmas at The Kenney Store
DESCRIPTION:Sunny Sweeney\n\nBrennen Leigh\n\nJamie Lin Wilson\n\nCourtney Patton
X-ALT-DESC;FMTTYPE=text/html:Sunny Sweeney<br />\nBrennen Leigh<br />\nJamie Lin Wilson<br />\nCourtney Patton
LOCATION:
UID:e.2500.3684
SEQUENCE:3
DTSTAMP:20260423T114146Z
URL:https://business.bellville.com/events/details/hard-candy-christmas-at-the-kenney-store-3684
END:VEVENT

END:VCALENDAR
