BEGIN:VCALENDAR
VERSION:2.0
PRODID:-//ChamberMaster//Event Calendar 2.0//EN
METHOD:PUBLISH
X-PUBLISHED-TTL:P3D
REFRESH-INTERVAL:P3D
CALSCALE:GREGORIAN
BEGIN:VEVENT
DTSTART:20181028T013000Z
DTEND:20181028T045500Z
X-MICROSOFT-CDO-ALLDAYEVENT:FALSE
SUMMARY:Halloween Party
DESCRIPTION:Anthony Moreno Band\n\nCostume Contest
X-ALT-DESC;FMTTYPE=text/html:Anthony Moreno Band<br />\nCostume Contest
LOCATION:The Kenney Store
UID:e.2500.6968
SEQUENCE:3
DTSTAMP:20260422T171850Z
URL:https://business.bellville.com/events/details/halloween-party-6968
END:VEVENT

END:VCALENDAR
