BEGIN:VCALENDAR
VERSION:2.0
PRODID:-//ChamberMaster//Event Calendar 2.0//EN
METHOD:PUBLISH
X-PUBLISHED-TTL:P3D
REFRESH-INTERVAL:P3D
CALSCALE:GREGORIAN
BEGIN:VEVENT
DTSTART:20161031T210000Z
DTEND:20161101T010000Z
X-MICROSOFT-CDO-ALLDAYEVENT:FALSE
SUMMARY:HALLOWEEN BENEFIT BLAST
DESCRIPTION:Join us for this fundraising event benefiting Liam Alanis.\n\nHAUNTED HOUSE\n\nBOUNCE HOUSE\n\nPETTING ZOO\n\nCHOO CHOO TRAIN RIDES\n\nBURGERS\n\nADULT BEVERAGES
X-ALT-DESC;FMTTYPE=text/html:Join us for this fundraising event benefiting Liam Alanis.<br />\nHAUNTED HOUSE<br />\nBOUNCE HOUSE<br />\nPETTING ZOO<br />\nCHOO CHOO TRAIN RIDES<br />\nBURGERS<br />\nADULT BEVERAGES
LOCATION:Sens Activity Center 200 Briar Ridge Dr Bellville\, TX 77418
UID:e.2500.1784
SEQUENCE:3
DTSTAMP:20260424T085633Z
URL:https://business.bellville.com/events/details/halloween-benefit-blast-1784
END:VEVENT

END:VCALENDAR
