BEGIN:VCALENDAR
VERSION:2.0
PRODID:-//ChamberMaster//Event Calendar 2.0//EN
METHOD:PUBLISH
X-PUBLISHED-TTL:P3D
REFRESH-INTERVAL:P3D
CALSCALE:GREGORIAN
BEGIN:VEVENT
DTSTART:20170604T183000Z
DTEND:20170604T203000Z
X-MICROSOFT-CDO-ALLDAYEVENT:FALSE
SUMMARY:Gospel Sunday
DESCRIPTION:Featuring The Morning Star Cowboy Church Band
X-ALT-DESC;FMTTYPE=text/html:Featuring The Morning Star Cowboy Church Band
LOCATION:The Kenney Store
UID:e.2500.3427
SEQUENCE:3
DTSTAMP:20260423T192710Z
URL:https://business.bellville.com/events/details/gospel-sunday-3427
END:VEVENT

END:VCALENDAR
