BEGIN:VCALENDAR
VERSION:2.0
PRODID:-//ChamberMaster//Event Calendar 2.0//EN
METHOD:PUBLISH
X-PUBLISHED-TTL:P3D
REFRESH-INTERVAL:P3D
CALSCALE:GREGORIAN
BEGIN:VEVENT
DTSTART:20180119T233000Z
DTEND:20180120T055500Z
X-MICROSOFT-CDO-ALLDAYEVENT:FALSE
SUMMARY:Good Ole Country Gospel III
DESCRIPTION:
X-ALT-DESC;FMTTYPE=text/html:
LOCATION:St John Lutheran Faith Center 520 N Holland Bellville TX 77418
UID:e.2500.3695
SEQUENCE:3
DTSTAMP:20260423T090511Z
URL:https://business.bellville.com/events/details/good-ole-country-gospel-iii-3695
END:VEVENT

END:VCALENDAR
