BEGIN:VCALENDAR
VERSION:2.0
PRODID:-//ChamberMaster//Event Calendar 2.0//EN
METHOD:PUBLISH
X-PUBLISHED-TTL:P3D
REFRESH-INTERVAL:P3D
CALSCALE:GREGORIAN
BEGIN:VEVENT
DTSTART:20161116T220000Z
DTEND:20161117T000000Z
X-MICROSOFT-CDO-ALLDAYEVENT:FALSE
SUMMARY:Gist Law PLLC Ribbon Cutting
DESCRIPTION:
X-ALT-DESC;FMTTYPE=text/html:
LOCATION:Gist Law PLLC 114 East Alamo Street\, Suite 27 Brenham\, TX
UID:e.2500.1785
SEQUENCE:3
DTSTAMP:20260424T071355Z
URL:https://business.bellville.com/events/details/gist-law-pllc-ribbon-cutting-1785
END:VEVENT

END:VCALENDAR
