BEGIN:VCALENDAR
VERSION:2.0
PRODID:-//ChamberMaster//Event Calendar 2.0//EN
METHOD:PUBLISH
X-PUBLISHED-TTL:P3D
REFRESH-INTERVAL:P3D
CALSCALE:GREGORIAN
BEGIN:VEVENT
DTSTART:20180501T120000Z
DTEND:20180502T000000Z
X-MICROSOFT-CDO-ALLDAYEVENT:FALSE
SUMMARY:Get Out & Vote Party
DESCRIPTION:7am - 9am Free Coffee & Donuts\n\n3pm - Free Hot Dogs\, Drinks\, Snow Cones & Bounce House
X-ALT-DESC;FMTTYPE=text/html:7am - 9am Free Coffee &amp\; Donuts<br />\n3pm - Free Hot Dogs\, Drinks\, Snow Cones &amp\; Bounce House
LOCATION:Austin County Jail Museum
UID:e.2500.6579
SEQUENCE:3
DTSTAMP:20260423T014549Z
URL:https://business.bellville.com/events/details/get-out-vote-party-6579
END:VEVENT

END:VCALENDAR
